BEGIN:VCALENDAR
VERSION:2.0
PRODID:-//Domaine Diane Dargence - ECPv6.15.20//NONSGML v1.0//EN
CALSCALE:GREGORIAN
METHOD:PUBLISH
X-WR-CALNAME:Domaine Diane Dargence
X-ORIGINAL-URL:https://www.domainedianedargence.fr
X-WR-CALDESC:Évènements pour Domaine Diane Dargence
REFRESH-INTERVAL;VALUE=DURATION:PT1H
X-Robots-Tag:noindex
X-PUBLISHED-TTL:PT1H
BEGIN:VTIMEZONE
TZID:Europe/Paris
BEGIN:DAYLIGHT
TZOFFSETFROM:+0100
TZOFFSETTO:+0200
TZNAME:CEST
DTSTART:20220327T010000
END:DAYLIGHT
BEGIN:STANDARD
TZOFFSETFROM:+0200
TZOFFSETTO:+0100
TZNAME:CET
DTSTART:20221030T010000
END:STANDARD
BEGIN:DAYLIGHT
TZOFFSETFROM:+0100
TZOFFSETTO:+0200
TZNAME:CEST
DTSTART:20230326T010000
END:DAYLIGHT
BEGIN:STANDARD
TZOFFSETFROM:+0200
TZOFFSETTO:+0100
TZNAME:CET
DTSTART:20231029T010000
END:STANDARD
BEGIN:DAYLIGHT
TZOFFSETFROM:+0100
TZOFFSETTO:+0200
TZNAME:CEST
DTSTART:20240331T010000
END:DAYLIGHT
BEGIN:STANDARD
TZOFFSETFROM:+0200
TZOFFSETTO:+0100
TZNAME:CET
DTSTART:20241027T010000
END:STANDARD
END:VTIMEZONE
BEGIN:VEVENT
DTSTART;VALUE=DATE:20231203
DTEND;VALUE=DATE:20231204
DTSTAMP:20260422T205623
CREATED:20220511T093605Z
LAST-MODIFIED:20230510T074645Z
UID:832-1701561600-1701647999@www.domainedianedargence.fr
SUMMARY:Chasse - Dimanche 3 Décembre 2023
DESCRIPTION:Si vous souhaitez réserver votre session chasse\, renseignez vos coordonnées ci-dessous\, et nous vous rappelleront dans les plus brefs délais.\nVotre nom *Adresse de messagerie *Numéro de téléphone * Envoyer le message
URL:https://www.domainedianedargence.fr/journee_chasse/chasse-samedi-19-novembre-2022/
CATEGORIES:Chasse collective en battue
END:VEVENT
END:VCALENDAR