BEGIN:VCALENDAR
VERSION:2.0
PRODID:-//Domaine Diane Dargence - ECPv6.15.20//NONSGML v1.0//EN
CALSCALE:GREGORIAN
METHOD:PUBLISH
X-ORIGINAL-URL:https://www.domainedianedargence.fr
X-WR-CALDESC:Évènements pour Domaine Diane Dargence
REFRESH-INTERVAL;VALUE=DURATION:PT1H
X-Robots-Tag:noindex
X-PUBLISHED-TTL:PT1H
BEGIN:VTIMEZONE
TZID:Europe/Paris
BEGIN:DAYLIGHT
TZOFFSETFROM:+0100
TZOFFSETTO:+0200
TZNAME:CEST
DTSTART:20230326T010000
END:DAYLIGHT
BEGIN:STANDARD
TZOFFSETFROM:+0200
TZOFFSETTO:+0100
TZNAME:CET
DTSTART:20231029T010000
END:STANDARD
BEGIN:DAYLIGHT
TZOFFSETFROM:+0100
TZOFFSETTO:+0200
TZNAME:CEST
DTSTART:20240331T010000
END:DAYLIGHT
BEGIN:STANDARD
TZOFFSETFROM:+0200
TZOFFSETTO:+0100
TZNAME:CET
DTSTART:20241027T010000
END:STANDARD
BEGIN:DAYLIGHT
TZOFFSETFROM:+0100
TZOFFSETTO:+0200
TZNAME:CEST
DTSTART:20250330T010000
END:DAYLIGHT
BEGIN:STANDARD
TZOFFSETFROM:+0200
TZOFFSETTO:+0100
TZNAME:CET
DTSTART:20251026T010000
END:STANDARD
END:VTIMEZONE
BEGIN:VEVENT
DTSTART;VALUE=DATE:20240113
DTEND;VALUE=DATE:20240114
DTSTAMP:20260422T193249
CREATED:20220511T093702Z
LAST-MODIFIED:20230510T074746Z
UID:833-1705104000-1705190399@www.domainedianedargence.fr
SUMMARY:Chasse - Samedi 13 Janvier 2024
DESCRIPTION:Si vous souhaitez réserver votre session chasse\, renseignez vos coordonnées ci-dessous\, et nous vous rappelleront dans les plus brefs délais.\nVotre nom *Adresse de messagerie *Numéro de téléphone * Envoyer le message
URL:https://www.domainedianedargence.fr/journee_chasse/chasse-dimanche-4-decembre-2022/
CATEGORIES:Chasse collective en battue
END:VEVENT
BEGIN:VEVENT
DTSTART;VALUE=DATE:20240127
DTEND;VALUE=DATE:20240128
DTSTAMP:20260422T193249
CREATED:20220511T093741Z
LAST-MODIFIED:20230510T074910Z
UID:834-1706313600-1706399999@www.domainedianedargence.fr
SUMMARY:Chasse - Samedi 27 Janvier 2024
DESCRIPTION:Si vous souhaitez réserver votre session chasse\, renseignez vos coordonnées ci-dessous\, et nous vous rappelleront dans les plus brefs délais.\nVotre nom *Adresse de messagerie *Numéro de téléphone * Envoyer le message
URL:https://www.domainedianedargence.fr/journee_chasse/chasse-samedi-17-decembre-2022/
CATEGORIES:Chasse collective en battue
END:VEVENT
END:VCALENDAR